{
 "currentVersion": 10.91,
 "serviceDescription": "Spoel, section wooden bridge, 16.06.2023",
 "name": "snp_is/spoel20230616_nach",
 "description": "Spoel, section wooden bridge, 16.06.2023",
 "extent": {
  "xmin": 2802324.1484000003,
  "ymin": 1174443.77685,
  "xmax": 2805637.6565600005,
  "ymax": 1175659.47285,
  "spatialReference": {
   "wkid": 2056,
   "latestWkid": 2056
  }
 },
 "initialExtent": {
  "xmin": 2802324.1484000003,
  "ymin": 1174443.77685,
  "xmax": 2805637.6565600005,
  "ymax": 1175659.47285,
  "spatialReference": {
   "wkid": 2056,
   "latestWkid": 2056
  }
 },
 "fullExtent": {
  "xmin": 2802324.1484000003,
  "ymin": 1174443.77685,
  "xmax": 2805637.6565600005,
  "ymax": 1175659.47285,
  "spatialReference": {
   "wkid": 2056,
   "latestWkid": 2056
  }
 },
 "hasMultidimensions": false,
 "pixelSizeX": 0.014880000000000905,
 "pixelSizeY": 0.014879999999999954,
 "datasetFormat": "TIFF",
 "uncompressedSize": 54579358200,
 "blockWidth": 512,
 "blockHeight": 512,
 "compressionType": "YCbCr JPEG",
 "bandNames": [
  "Band_1",
  "Band_2",
  "Band_3"
 ],
 "allowCopy": true,
 "allowAnalysis": true,
 "bandCount": 3,
 "pixelType": "U8",
 "minPixelSize": 0,
 "maxPixelSize": 0,
 "copyrightText": "© SNP",
 "serviceDataType": "esriImageServiceDataTypeRGB",
 "serviceSourceType": "esriImageServiceSourceTypeDataset",
 "minValues": [
  0,
  0,
  0
 ],
 "maxValues": [
  255,
  255,
  255
 ],
 "meanValues": [
  118.69221344974,
  132.34661408805,
  93.290503134068
 ],
 "stdvValues": [
  15.313134002333,
  13.874358104528,
  19.2528051557
 ],
 "objectIdField": "",
 "fields": [],
 "capabilities": "Mensuration,Image,Metadata",
 "defaultMosaicMethod": "Center",
 "allowedMosaicMethods": "",
 "sortField": "",
 "sortValue": null,
 "sortAscending": true,
 "mosaicOperator": "First",
 "defaultCompressionQuality": 75,
 "defaultResamplingMethod": "Bilinear",
 "maxImageHeight": 4100,
 "maxImageWidth": 15000,
 "allowRasterFunction": true,
 "rasterFunctionInfos": [
  {
   "name": "None",
   "description": "",
   "help": ""
  }
 ],
 "rasterTypeInfos": [
  {
   "name": "Raster Dataset",
   "description": "Supports all ArcGIS Raster Datasets",
   "help": ""
  }
 ],
 "mensurationCapabilities": "Basic",
 "hasHistograms": false,
 "hasColormap": false,
 "hasRasterAttributeTable": false,
 "minScale": 0,
 "maxScale": 0,
 "exportTilesAllowed": false,
 "supportsStatistics": false,
 "supportsAdvancedQueries": false,
 "editFieldsInfo": null,
 "ownershipBasedAccessControlForRasters": null,
 "allowComputeTiePoints": false,
 "useStandardizedQueries": true,
 "advancedQueryCapabilities": {
  "useStandardizedQueries": true,
  "supportsStatistics": false,
  "supportsOrderBy": false,
  "supportsDistinct": false,
  "supportsPagination": false
 },
 "spatialReference": {
  "wkid": 2056,
  "latestWkid": 2056
 }
}
