{
 "currentVersion": 10.91,
 "serviceDescription": "snp_ortho/20230616_53387_spoel_holzbruecke_nach",
 "name": "snp_ortho/20230616_53387_spoel_holzbruecke_nach",
 "description": "",
 "extent": {
  "xmin": 2803597.0927700005,
  "ymin": 1175028.00563,
  "xmax": 2804254.5203900007,
  "ymax": 1175313.9897800002,
  "spatialReference": {
   "wkid": 2056,
   "latestWkid": 2056
  }
 },
 "initialExtent": {
  "xmin": 2803597.0927700005,
  "ymin": 1175028.00563,
  "xmax": 2804254.5203900007,
  "ymax": 1175313.9897800002,
  "spatialReference": {
   "wkid": 2056,
   "latestWkid": 2056
  }
 },
 "fullExtent": {
  "xmin": 2803597.0927700005,
  "ymin": 1175028.00563,
  "xmax": 2804254.5203900007,
  "ymax": 1175313.9897800002,
  "spatialReference": {
   "wkid": 2056,
   "latestWkid": 2056
  }
 },
 "hasMultidimensions": false,
 "pixelSizeX": 0.014930000000004677,
 "pixelSizeY": 0.014930000000007798,
 "datasetFormat": "TIFF",
 "uncompressedSize": 2530413810,
 "blockWidth": 512,
 "blockHeight": 512,
 "compressionType": "YCbCr JPEG",
 "bandNames": [
  "Band_1",
  "Band_2",
  "Band_3"
 ],
 "allowCopy": true,
 "allowAnalysis": true,
 "bandCount": 3,
 "pixelType": "U8",
 "minPixelSize": 0,
 "maxPixelSize": 0,
 "copyrightText": "© SNP",
 "serviceDataType": "esriImageServiceDataTypeRGB",
 "serviceSourceType": "esriImageServiceSourceTypeDataset",
 "minValues": [],
 "maxValues": [],
 "meanValues": [],
 "stdvValues": [],
 "objectIdField": "",
 "fields": [],
 "capabilities": "Mensuration,Image,Metadata",
 "defaultMosaicMethod": "Center",
 "allowedMosaicMethods": "",
 "sortField": "",
 "sortValue": null,
 "sortAscending": true,
 "mosaicOperator": "First",
 "defaultCompressionQuality": 75,
 "defaultResamplingMethod": "Bilinear",
 "maxImageHeight": 4100,
 "maxImageWidth": 15000,
 "allowRasterFunction": true,
 "rasterFunctionInfos": [
  {
   "name": "None",
   "description": "",
   "help": ""
  }
 ],
 "rasterTypeInfos": [
  {
   "name": "Raster Dataset",
   "description": "Supports all ArcGIS Raster Datasets",
   "help": ""
  }
 ],
 "mensurationCapabilities": "Basic",
 "hasHistograms": false,
 "hasColormap": false,
 "hasRasterAttributeTable": false,
 "minScale": 0,
 "maxScale": 0,
 "exportTilesAllowed": false,
 "supportsStatistics": false,
 "supportsAdvancedQueries": false,
 "editFieldsInfo": null,
 "ownershipBasedAccessControlForRasters": null,
 "allowComputeTiePoints": false,
 "useStandardizedQueries": true,
 "advancedQueryCapabilities": {
  "useStandardizedQueries": true,
  "supportsStatistics": false,
  "supportsOrderBy": false,
  "supportsDistinct": false,
  "supportsPagination": false
 },
 "spatialReference": {
  "wkid": 2056,
  "latestWkid": 2056
 }
}
