{
 "currentVersion": 10.91,
 "serviceDescription": "snp_tests/spoel_dsmdiff_25042024_16062023",
 "name": "snp_tests/spoel_dsmdiff_25042024_16062023",
 "description": "",
 "extent": {
  "xmin": 2803598.16594,
  "ymin": 1175030.64026,
  "xmax": 2804200.4349700003,
  "ymax": 1175300.3872500001,
  "spatialReference": {
   "wkid": 2056,
   "latestWkid": 2056,
   "vcsWkid": 5729,
   "latestVcsWkid": 5729
  }
 },
 "initialExtent": {
  "xmin": 2803598.16594,
  "ymin": 1175030.64026,
  "xmax": 2804200.4349700003,
  "ymax": 1175300.3872500001,
  "spatialReference": {
   "wkid": 2056,
   "latestWkid": 2056,
   "vcsWkid": 5729,
   "latestVcsWkid": 5729
  }
 },
 "fullExtent": {
  "xmin": 2803598.16594,
  "ymin": 1175030.64026,
  "xmax": 2804200.4349700003,
  "ymax": 1175300.3872500001,
  "spatialReference": {
   "wkid": 2056,
   "latestWkid": 2056,
   "vcsWkid": 5729,
   "latestVcsWkid": 5729
  }
 },
 "heightModelInfo": {
  "heightModel": "gravity_related_height",
  "vertCRS": "LHN95",
  "heightUnit": "meter"
 },
 "hasMultidimensions": false,
 "pixelSizeX": 0.07429000000001025,
 "pixelSizeY": 0.07429000000003597,
 "datasetFormat": "TIFF",
 "uncompressedSize": 117746068,
 "blockWidth": 128,
 "blockHeight": 128,
 "compressionType": "None",
 "bandNames": [
  "Band_1"
 ],
 "allowCopy": true,
 "allowAnalysis": true,
 "bandCount": 1,
 "noDataValue": -3.4028234663852886E38,
 "noDataValues": [
  -3.4028234663852886E38
 ],
 "pixelType": "F32",
 "minPixelSize": 0,
 "maxPixelSize": 0,
 "copyrightText": "",
 "serviceDataType": "esriImageServiceDataTypeGeneric",
 "serviceSourceType": "esriImageServiceSourceTypeDataset",
 "minValues": [
  -26.455200195312
 ],
 "maxValues": [
  18.168090820312
 ],
 "meanValues": [
  -1.2077321850653
 ],
 "stdvValues": [
  3.6033786294465
 ],
 "objectIdField": "",
 "fields": [],
 "capabilities": "Image,Metadata,Mensuration",
 "defaultMosaicMethod": "Center",
 "allowedMosaicMethods": "",
 "sortField": "",
 "sortValue": null,
 "sortAscending": true,
 "mosaicOperator": "First",
 "defaultCompressionQuality": 75,
 "defaultResamplingMethod": "Bilinear",
 "maxImageHeight": 4100,
 "maxImageWidth": 15000,
 "allowRasterFunction": true,
 "rasterFunctionInfos": [
  {
   "name": "None",
   "description": "",
   "help": ""
  }
 ],
 "rasterTypeInfos": [
  {
   "name": "Raster Dataset",
   "description": "Supports all ArcGIS Raster Datasets",
   "help": ""
  }
 ],
 "mensurationCapabilities": "Basic",
 "hasHistograms": true,
 "hasColormap": false,
 "hasRasterAttributeTable": false,
 "minScale": 0,
 "maxScale": 0,
 "exportTilesAllowed": false,
 "supportsStatistics": false,
 "supportsAdvancedQueries": false,
 "editFieldsInfo": null,
 "ownershipBasedAccessControlForRasters": null,
 "allowComputeTiePoints": false,
 "useStandardizedQueries": true,
 "advancedQueryCapabilities": {
  "useStandardizedQueries": true,
  "supportsStatistics": false,
  "supportsOrderBy": false,
  "supportsDistinct": false,
  "supportsPagination": false
 },
 "spatialReference": {
  "wkid": 2056,
  "latestWkid": 2056,
  "vcsWkid": 5729,
  "latestVcsWkid": 5729
 }
}
