{
 "currentVersion": 10.91,
 "serviceDescription": "snp_tests/ue2056",
 "name": "snp_tests/ue2056",
 "description": "",
 "extent": {
  "xmin": 2673073,
  "ymin": 1250362,
  "xmax": 2677204,
  "ymax": 1252456,
  "spatialReference": {
   "wkid": 2056,
   "latestWkid": 2056
  }
 },
 "initialExtent": {
  "xmin": 2673073,
  "ymin": 1250362,
  "xmax": 2677204,
  "ymax": 1252456,
  "spatialReference": {
   "wkid": 2056,
   "latestWkid": 2056
  }
 },
 "fullExtent": {
  "xmin": 2673073,
  "ymin": 1250362,
  "xmax": 2677204,
  "ymax": 1252456,
  "spatialReference": {
   "wkid": 2056,
   "latestWkid": 2056
  }
 },
 "hasMultidimensions": false,
 "pixelSizeX": 0.05,
 "pixelSizeY": 0.05,
 "datasetFormat": "TIFF",
 "uncompressedSize": 10380376800,
 "blockWidth": 512,
 "blockHeight": 512,
 "compressionType": "YCbCr JPEG",
 "bandNames": [
  "Band_1",
  "Band_2",
  "Band_3"
 ],
 "allowCopy": true,
 "allowAnalysis": true,
 "bandCount": 3,
 "pixelType": "U8",
 "minPixelSize": 0,
 "maxPixelSize": 0,
 "copyrightText": "© SNP, geometrieplus",
 "serviceDataType": "esriImageServiceDataTypeRGB",
 "serviceSourceType": "esriImageServiceSourceTypeDataset",
 "minValues": [
  0,
  0,
  0
 ],
 "maxValues": [
  255,
  255,
  255
 ],
 "meanValues": [
  117.34034906862,
  127.35396510078,
  86.506419199003
 ],
 "stdvValues": [
  36.161007484197,
  32.606148032448,
  36.457406923603
 ],
 "objectIdField": "",
 "fields": [],
 "capabilities": "Mensuration,Image,Metadata",
 "defaultMosaicMethod": "Center",
 "allowedMosaicMethods": "",
 "sortField": "",
 "sortValue": null,
 "sortAscending": true,
 "mosaicOperator": "First",
 "defaultCompressionQuality": 75,
 "defaultResamplingMethod": "Bilinear",
 "maxImageHeight": 4100,
 "maxImageWidth": 15000,
 "allowRasterFunction": true,
 "rasterFunctionInfos": [
  {
   "name": "None",
   "description": "",
   "help": ""
  }
 ],
 "rasterTypeInfos": [
  {
   "name": "Raster Dataset",
   "description": "Supports all ArcGIS Raster Datasets",
   "help": ""
  }
 ],
 "mensurationCapabilities": "Basic",
 "hasHistograms": false,
 "hasColormap": false,
 "hasRasterAttributeTable": false,
 "minScale": 0,
 "maxScale": 0,
 "exportTilesAllowed": false,
 "supportsStatistics": false,
 "supportsAdvancedQueries": false,
 "editFieldsInfo": null,
 "ownershipBasedAccessControlForRasters": null,
 "allowComputeTiePoints": false,
 "useStandardizedQueries": true,
 "advancedQueryCapabilities": {
  "useStandardizedQueries": true,
  "supportsStatistics": false,
  "supportsOrderBy": false,
  "supportsDistinct": false,
  "supportsPagination": false
 },
 "spatialReference": {
  "wkid": 2056,
  "latestWkid": 2056
 }
}
