View In:
ArcGIS JavaScript
ArcGIS Online Map Viewer
ArcGIS Earth
ArcMap
View Footprint In:
ArcGIS Online Map Viewer
Service Description: snp_is/20250722_macun_ohnegcp
Name: snp_is/20250722_macun_ohnegcp
Description:
Single Fused Map Cache: false
Extent:
XMin: 1126934.8343751451
YMin: 5897125.981139976
XMax: 1128302.1181754253
YMax: 5898188.52338966
Spatial Reference: 102100
(3857)
LatestVCSWkid(0)
Initial Extent:
XMin: 1126934.8343751451
YMin: 5897125.981139976
XMax: 1128302.1181754253
YMax: 5898188.52338966
Spatial Reference: 102100
(3857)
LatestVCSWkid(0)
Full Extent:
XMin: 1126934.8343751451
YMin: 5897125.981139976
XMax: 1128302.1181754253
YMax: 5898188.52338966
Spatial Reference: 102100
(3857)
LatestVCSWkid(0)
Pixel Size X: 0.017934413288388826
Pixel Size Y: 0.017934413288394527
Band Count: 3
Pixel Type: U8
RasterFunction Infos: {"rasterFunctionInfos": [{
"name": "None",
"description": "",
"help": ""
}]}
Mensuration Capabilities: Basic
Has Histograms: false
Has Colormap: false
Has Multi Dimensions : false
Rendering Rule:
Min Scale: 0
Max Scale: 0
Copyright Text:
Service Data Type: esriImageServiceDataTypeRGB
Min Values: 0, 0, 0
Max Values: 255, 255, 255
Mean Values: 97.679430561958, 115.47116059758, 103.96864949435
Standard Deviation Values: 56.473933073654, 48.813663399541, 53.198742055512
Object ID Field:
Fields:
None
Default Mosaic Method: Center
Allowed Mosaic Methods:
SortField:
SortValue: null
Mosaic Operator: First
Default Compression Quality: 75
Default Resampling Method: Bilinear
Max Record Count: null
Max Image Height: 4100
Max Image Width: 15000
Max Download Image Count: null
Max Mosaic Image Count: null
Allow Raster Function: true
Allow Copy: true
Allow Analysis: true
Allow Compute TiePoints: false
Supports Statistics: false
Supports Advanced Queries: false
Use StandardizedQueries: true
Raster Type Infos:
Name: Raster Dataset
Description: Supports all ArcGIS Raster Datasets
Help:
Has Raster Attribute Table: false
Edit Fields Info: null
Ownership Based AccessControl For Rasters: null
Child Resources:
Info
Statistics
Key Properties
Legend
Raster Function Infos
Supported Operations:
Export Image
Identify
Measure
Compute Histograms
Compute Statistics Histograms
Get Samples
Compute Class Statistics
Query Boundary
Compute Pixel Location
Compute Angles
Validate
Project