View In:
ArcGIS JavaScript
ArcGIS Online Map Viewer
ArcGIS Earth
ArcMap
View Footprint In:
ArcGIS Online Map Viewer
Service Description: snp_ortho/20240412_panas_ch_ortho_subset90
Name: snp_ortho/20240412_panas_ch_ortho_subset90
Description:
Single Fused Map Cache: false
Extent:
XMin: 2823650.7049
YMin: 1189876.52526
XMax: 2823952.16602
YMax: 1190190.09753
Spatial Reference: 2056
(2056)
LatestVCSWkid(0)
Initial Extent:
XMin: 2823650.7049
YMin: 1189876.52526
XMax: 2823952.16602
YMax: 1190190.09753
Spatial Reference: 2056
(2056)
LatestVCSWkid(0)
Full Extent:
XMin: 2823650.7049
YMin: 1189876.52526
XMax: 2823952.16602
YMax: 1190190.09753
Spatial Reference: 2056
(2056)
LatestVCSWkid(0)
Pixel Size X: 0.007890000000002855
Pixel Size Y: 0.007889999999997177
Band Count: 3
Pixel Type: U8
RasterFunction Infos: {"rasterFunctionInfos": [{
"name": "None",
"description": "",
"help": ""
}]}
Mensuration Capabilities: Basic
Has Histograms: true
Has Colormap: false
Has Multi Dimensions : false
Rendering Rule:
Min Scale: 0
Max Scale: 0
Copyright Text: © SNP
Service Data Type: esriImageServiceDataTypeRGB
Min Values: 0, 0, 0
Max Values: 255, 255, 255
Mean Values: 100.0318952852, 100.60687823171, 96.56971204949
Standard Deviation Values: 45.882906562557, 46.701880414, 47.765797516603
Object ID Field:
Fields:
None
Default Mosaic Method: Center
Allowed Mosaic Methods:
SortField:
SortValue: null
Mosaic Operator: First
Default Compression Quality: 85
Default Resampling Method: Bilinear
Max Record Count: null
Max Image Height: 4100
Max Image Width: 15000
Max Download Image Count: null
Max Mosaic Image Count: null
Allow Raster Function: true
Allow Copy: true
Allow Analysis: true
Allow Compute TiePoints: false
Supports Statistics: false
Supports Advanced Queries: false
Use StandardizedQueries: true
Raster Type Infos:
Name: Raster Dataset
Description: Supports all ArcGIS Raster Datasets
Help:
Has Raster Attribute Table: false
Edit Fields Info: null
Ownership Based AccessControl For Rasters: null
Child Resources:
Info
Histograms
Statistics
Key Properties
Legend
Raster Function Infos
Supported Operations:
Export Image
Identify
Measure
Compute Histograms
Compute Statistics Histograms
Get Samples
Compute Class Statistics
Query Boundary
Compute Pixel Location
Compute Angles
Validate
Project