View In:
ArcGIS JavaScript
ArcGIS Online Map Viewer
ArcGIS Earth
ArcMap
View Footprint In:
ArcGIS Online Map Viewer
Service Description: snp_ortho/20240425_spoel_holzbruecke
Name: snp_ortho/20240425_spoel_holzbruecke
Description:
Single Fused Map Cache: false
Extent:
XMin: 2803598.16594
YMin: 1175030.65961
XMax: 2804200.4763900004
YMax: 1175300.39026
Spatial Reference: 2056
(2056)
LatestVCSWkid(0)
Initial Extent:
XMin: 2803598.16594
YMin: 1175030.65961
XMax: 2804200.4763900004
YMax: 1175300.39026
Spatial Reference: 2056
(2056)
LatestVCSWkid(0)
Full Extent:
XMin: 2803598.16594
YMin: 1175030.65961
XMax: 2804200.4763900004
YMax: 1175300.39026
Spatial Reference: 2056
(2056)
LatestVCSWkid(0)
Pixel Size X: 0.0066500000000024595
Pixel Size Y: 0.00665000000000102
Band Count: 3
Pixel Type: U8
RasterFunction Infos: {"rasterFunctionInfos": [{
"name": "None",
"description": "",
"help": ""
}]}
Mensuration Capabilities: Basic
Has Histograms: false
Has Colormap: false
Has Multi Dimensions : false
Rendering Rule:
Min Scale: 0
Max Scale: 0
Copyright Text: © SNP
Service Data Type: esriImageServiceDataTypeRGB
Min Values: 0, 0, 0
Max Values: 255, 255, 255
Mean Values: 91.644392992907, 90.986639514497, 83.039455615063
Standard Deviation Values: 26.95036438705, 26.829632642276, 27.282003955166
Object ID Field:
Fields:
None
Default Mosaic Method: Center
Allowed Mosaic Methods:
SortField:
SortValue: null
Mosaic Operator: First
Default Compression Quality: 75
Default Resampling Method: Bilinear
Max Record Count: null
Max Image Height: 4100
Max Image Width: 15000
Max Download Image Count: null
Max Mosaic Image Count: null
Allow Raster Function: true
Allow Copy: true
Allow Analysis: true
Allow Compute TiePoints: false
Supports Statistics: false
Supports Advanced Queries: false
Use StandardizedQueries: true
Raster Type Infos:
Name: Raster Dataset
Description: Supports all ArcGIS Raster Datasets
Help:
Has Raster Attribute Table: false
Edit Fields Info: null
Ownership Based AccessControl For Rasters: null
Child Resources:
Info
Statistics
Key Properties
Legend
Raster Function Infos
Supported Operations:
Export Image
Identify
Measure
Compute Histograms
Compute Statistics Histograms
Get Samples
Compute Class Statistics
Query Boundary
Compute Pixel Location
Compute Angles
Validate
Project