View In:
ArcGIS JavaScript
ArcGIS Online Map Viewer
ArcGIS Earth
ArcMap
View Footprint In:
ArcGIS Online Map Viewer
Service Description: snp_ortho/20240529_spoel_ab2u3
Name: snp_ortho/20240529_spoel_ab2u3
Description:
Single Fused Map Cache: false
Extent:
XMin: 2803593.29562
YMin: 1174802.05971
XMax: 2805051.55756
YMax: 1175312.33328
Spatial Reference: 2056
(2056)
LatestVCSWkid(0)
Initial Extent:
XMin: 2803593.29562
YMin: 1174802.05971
XMax: 2805051.55756
YMax: 1175312.33328
Spatial Reference: 2056
(2056)
LatestVCSWkid(0)
Full Extent:
XMin: 2803593.29562
YMin: 1174802.05971
XMax: 2805051.55756
YMax: 1175312.33328
Spatial Reference: 2056
(2056)
LatestVCSWkid(0)
Pixel Size X: 0.014230000000001103
Pixel Size Y: 0.014229999999998917
Band Count: 3
Pixel Type: U8
RasterFunction Infos: {"rasterFunctionInfos": [{
"name": "None",
"description": "",
"help": ""
}]}
Mensuration Capabilities: Basic
Has Histograms: false
Has Colormap: false
Has Multi Dimensions : false
Rendering Rule:
Min Scale: 0
Max Scale: 0
Copyright Text: © SNP
Service Data Type: esriImageServiceDataTypeRGB
Min Values: 0, 0, 0
Max Values: 255, 255, 255
Mean Values: 119.00821897371, 131.71534533951, 99.969244486097
Standard Deviation Values: 19.517329558731, 18.108876476905, 25.552585447595
Object ID Field:
Fields:
None
Default Mosaic Method: Center
Allowed Mosaic Methods:
SortField:
SortValue: null
Mosaic Operator: First
Default Compression Quality: 75
Default Resampling Method: Bilinear
Max Record Count: null
Max Image Height: 4100
Max Image Width: 15000
Max Download Image Count: null
Max Mosaic Image Count: null
Allow Raster Function: true
Allow Copy: true
Allow Analysis: true
Allow Compute TiePoints: false
Supports Statistics: false
Supports Advanced Queries: false
Use StandardizedQueries: true
Raster Type Infos:
Name: Raster Dataset
Description: Supports all ArcGIS Raster Datasets
Help:
Has Raster Attribute Table: false
Edit Fields Info: null
Ownership Based AccessControl For Rasters: null
Child Resources:
Info
Statistics
Key Properties
Legend
Raster Function Infos
Supported Operations:
Export Image
Identify
Measure
Compute Histograms
Compute Statistics Histograms
Get Samples
Compute Class Statistics
Query Boundary
Compute Pixel Location
Compute Angles
Validate
Project