View In:
ArcGIS JavaScript
ArcGIS Online Map Viewer
ArcGIS Earth
ArcMap
View Footprint In:
ArcGIS Online Map Viewer
Service Description: snp_ortho/20240529_spoel_ab2u3_epsg3857
Name: snp_ortho/20240529_spoel_ab2u3_epsg3857
Description:
Single Fused Map Cache: false
Extent:
XMin: 1124415.8096948287
YMin: 5892090.960630086
XMax: 1126562.2028082605
YMax: 5892908.02250274
Spatial Reference: 102100
(3857)
LatestVCSWkid(0)
Initial Extent:
XMin: 1124415.8096948287
YMin: 5892090.960630086
XMax: 1126562.2028082605
YMax: 5892908.02250274
Spatial Reference: 102100
(3857)
LatestVCSWkid(0)
Full Extent:
XMin: 1124415.8096948287
YMin: 5892090.960630086
XMax: 1126562.2028082605
YMax: 5892908.02250274
Spatial Reference: 102100
(3857)
LatestVCSWkid(0)
Pixel Size X: 0.02071868020726231
Pixel Size Y: 0.020718680207264
Band Count: 3
Pixel Type: U8
RasterFunction Infos: {"rasterFunctionInfos": [{
"name": "None",
"description": "",
"help": ""
}]}
Mensuration Capabilities: Basic
Has Histograms: true
Has Colormap: false
Has Multi Dimensions : false
Rendering Rule:
Min Scale: 0
Max Scale: 0
Copyright Text: © SNP
Service Data Type: esriImageServiceDataTypeRGB
Min Values: 0, 0, 0
Max Values: 255, 255, 255
Mean Values: 119.02655033052, 131.67921324946, 100.13227893696
Standard Deviation Values: 47.551237199118, 44.070187856936, 62.117499829303
Object ID Field:
Fields:
None
Default Mosaic Method: Center
Allowed Mosaic Methods:
SortField:
SortValue: null
Mosaic Operator: First
Default Compression Quality: 75
Default Resampling Method: Bilinear
Max Record Count: null
Max Image Height: 4100
Max Image Width: 15000
Max Download Image Count: null
Max Mosaic Image Count: null
Allow Raster Function: true
Allow Copy: true
Allow Analysis: true
Allow Compute TiePoints: false
Supports Statistics: false
Supports Advanced Queries: false
Use StandardizedQueries: true
Raster Type Infos:
Name: Raster Dataset
Description: Supports all ArcGIS Raster Datasets
Help:
Has Raster Attribute Table: false
Edit Fields Info: null
Ownership Based AccessControl For Rasters: null
Child Resources:
Info
Histograms
Statistics
Key Properties
Legend
Raster Function Infos
Supported Operations:
Export Image
Identify
Measure
Compute Histograms
Compute Statistics Histograms
Get Samples
Compute Class Statistics
Query Boundary
Compute Pixel Location
Compute Angles
Validate
Project