View In:
ArcGIS JavaScript
ArcGIS Online Map Viewer
ArcGIS Earth
ArcMap
View Footprint In:
ArcGIS Online Map Viewer
Service Description: snp_ortho/20240815_acqua_zunge_ortho
Name: snp_ortho/20240815_acqua_zunge_ortho
Description:
Single Fused Map Cache: false
Extent:
XMin: 2807953.84726
YMin: 1167150.0798499999
XMax: 2808502.48251
YMax: 1167683.8631
Spatial Reference: 2056
(2056)
LatestVCSWkid(0)
Initial Extent:
XMin: 2807953.84726
YMin: 1167150.0798499999
XMax: 2808502.48251
YMax: 1167683.8631
Spatial Reference: 2056
(2056)
LatestVCSWkid(0)
Full Extent:
XMin: 2807953.84726
YMin: 1167150.0798499999
XMax: 2808502.48251
YMax: 1167683.8631
Spatial Reference: 2056
(2056)
LatestVCSWkid(0)
Pixel Size X: 0.01974999999999343
Pixel Size Y: 0.019750000000003515
Band Count: 3
Pixel Type: U8
RasterFunction Infos: {"rasterFunctionInfos": [{
"name": "None",
"description": "",
"help": ""
}]}
Mensuration Capabilities: Basic
Has Histograms: false
Has Colormap: false
Has Multi Dimensions : false
Rendering Rule:
Min Scale: 0
Max Scale: 0
Copyright Text: © SNP
Service Data Type: esriImageServiceDataTypeRGB
Min Values: 0, 0, 0
Max Values: 255, 255, 255
Mean Values: 135.90489882838, 136.81174285957, 132.44482896135
Standard Deviation Values: 29.146915050951, 28.503149431982, 32.175671104596
Object ID Field:
Fields:
None
Default Mosaic Method: Center
Allowed Mosaic Methods:
SortField:
SortValue: null
Mosaic Operator: First
Default Compression Quality: 75
Default Resampling Method: Bilinear
Max Record Count: null
Max Image Height: 4100
Max Image Width: 15000
Max Download Image Count: null
Max Mosaic Image Count: null
Allow Raster Function: true
Allow Copy: true
Allow Analysis: true
Allow Compute TiePoints: false
Supports Statistics: false
Supports Advanced Queries: false
Use StandardizedQueries: true
Raster Type Infos:
Name: Raster Dataset
Description: Supports all ArcGIS Raster Datasets
Help:
Has Raster Attribute Table: false
Edit Fields Info: null
Ownership Based AccessControl For Rasters: null
Child Resources:
Info
Statistics
Key Properties
Legend
Raster Function Infos
Supported Operations:
Export Image
Identify
Measure
Compute Histograms
Compute Statistics Histograms
Get Samples
Compute Class Statistics
Query Boundary
Compute Pixel Location
Compute Angles
Validate
Project