View In:
ArcGIS JavaScript
ArcGIS Online Map Viewer
ArcGIS Earth
ArcMap
View Footprint In:
ArcGIS Online Map Viewer
Service Description: ortho murgang stabelchod
Name: snp_tests/20180828_stabelchod_ortho
Description: ortho murgang stabelchod
Single Fused Map Cache: false
Extent:
XMin: 2814404.62716
YMin: 1171928.40522
XMax: 2814808.7394000003
YMax: 1172675.86914
Spatial Reference: 2056
(2056)
LatestVCSWkid(0)
Initial Extent:
XMin: 2814404.62716
YMin: 1171928.40522
XMax: 2814808.7394000003
YMax: 1172675.86914
Spatial Reference: 2056
(2056)
LatestVCSWkid(0)
Full Extent:
XMin: 2814404.62716
YMin: 1171928.40522
XMax: 2814808.7394000003
YMax: 1172675.86914
Spatial Reference: 2056
(2056)
LatestVCSWkid(0)
Pixel Size X: 0.016520000000006634
Pixel Size Y: 0.016520000000000205
Band Count: 4
Pixel Type: U8
RasterFunction Infos: {"rasterFunctionInfos": [{
"name": "None",
"description": "",
"help": ""
}]}
Mensuration Capabilities: Basic
Has Histograms: true
Has Colormap: false
Has Multi Dimensions : false
Rendering Rule:
Min Scale: 0
Max Scale: 0
Copyright Text: © SNP
Service Data Type: esriImageServiceDataTypeGeneric
Min Values: 0, 0, 0, 0
Max Values: 255, 255, 255, 255
Mean Values: 42.434545216691, 43.979159667921, 37.32061419828, 91.899420808304
Standard Deviation Values: 69.002069846975, 69.994152373149, 64.125103929464, 122.42895398867
Object ID Field:
Fields:
None
Default Mosaic Method: Center
Allowed Mosaic Methods:
SortField:
SortValue: null
Mosaic Operator: First
Default Compression Quality: 75
Default Resampling Method: Bilinear
Max Record Count: null
Max Image Height: 4100
Max Image Width: 15000
Max Download Image Count: null
Max Mosaic Image Count: null
Allow Raster Function: true
Allow Copy: null
Allow Analysis: null
Allow Compute TiePoints: false
Supports Statistics: false
Supports Advanced Queries: false
Use StandardizedQueries: true
Raster Type Infos:
Name: Raster Dataset
Description: Supports all ArcGIS Raster Datasets
Help:
Has Raster Attribute Table: false
Edit Fields Info: null
Ownership Based AccessControl For Rasters: null
Child Resources:
Info
Histograms
Key Properties
Legend
Raster Function Infos
Supported Operations:
Export Image
Identify
Measure
Compute Histograms
Compute Statistics Histograms
Get Samples
Compute Class Statistics
Query Boundary
Compute Pixel Location
Compute Angles
Validate
Project