View In:
ArcGIS JavaScript
ArcGIS Online Map Viewer
ArcGIS Earth
ArcMap
View Footprint In:
ArcGIS Online Map Viewer
Service Description: snp_tests/gw
Name: snp_tests/gw
Description:
Single Fused Map Cache: false
Extent:
XMin: 935196.7078441296
YMin: 6009210.027674078
XMax: 937365.6007573073
YMax: 6012624.782827474
Spatial Reference: 102100
(3857)
LatestVCSWkid(0)
Initial Extent:
XMin: 935196.7078441296
YMin: 6009210.027674078
XMax: 937365.6007573073
YMax: 6012624.782827474
Spatial Reference: 102100
(3857)
LatestVCSWkid(0)
Full Extent:
XMin: 935196.7078441296
YMin: 6009210.027674078
XMax: 937365.6007573073
YMax: 6012624.782827474
Spatial Reference: 102100
(3857)
LatestVCSWkid(0)
Pixel Size X: 0.07392525011682775
Pixel Size Y: 0.07392525011682037
Band Count: 3
Pixel Type: U8
RasterFunction Infos: {"rasterFunctionInfos": [{
"name": "None",
"description": "",
"help": ""
}]}
Mensuration Capabilities: Basic
Has Histograms: false
Has Colormap: false
Has Multi Dimensions : false
Rendering Rule:
Min Scale: 0
Max Scale: 0
Copyright Text: © SNP, geometrieplus
Service Data Type: esriImageServiceDataTypeRGB
Min Values: 0, 0, 0
Max Values: 255, 255, 255
Mean Values: 120.12895863712, 128.97508415771, 88.02017412311
Standard Deviation Values: 42.622238527212, 38.792757067484, 45.408609499855
Object ID Field:
Fields:
None
Default Mosaic Method: Center
Allowed Mosaic Methods:
SortField:
SortValue: null
Mosaic Operator: First
Default Compression Quality: 75
Default Resampling Method: Bilinear
Max Record Count: null
Max Image Height: 4100
Max Image Width: 15000
Max Download Image Count: null
Max Mosaic Image Count: null
Allow Raster Function: true
Allow Copy: true
Allow Analysis: true
Allow Compute TiePoints: false
Supports Statistics: false
Supports Advanced Queries: false
Use StandardizedQueries: true
Raster Type Infos:
Name: Raster Dataset
Description: Supports all ArcGIS Raster Datasets
Help:
Has Raster Attribute Table: false
Edit Fields Info: null
Ownership Based AccessControl For Rasters: null
Child Resources:
Info
Statistics
Key Properties
Legend
Raster Function Infos
Supported Operations:
Export Image
Identify
Measure
Compute Histograms
Compute Statistics Histograms
Get Samples
Compute Class Statistics
Query Boundary
Compute Pixel Location
Compute Angles
Validate
Project