View In:
ArcGIS JavaScript
ArcGIS Online Map Viewer
ArcGIS Earth
ArcMap
View Footprint In:
ArcGIS Online Map Viewer
Service Description: snp_tests/ju
Name: snp_tests/ju
Description:
Single Fused Map Cache: false
Extent:
XMin: 949656.323683919
YMin: 6013821.257047153
XMax: 950104.3488348036
YMax: 6014348.2306637755
Spatial Reference: 102100
(3857)
LatestVCSWkid(0)
Initial Extent:
XMin: 949656.323683919
YMin: 6013821.257047153
XMax: 950104.3488348036
YMax: 6014348.2306637755
Spatial Reference: 102100
(3857)
LatestVCSWkid(0)
Full Extent:
XMin: 949656.323683919
YMin: 6013821.257047153
XMax: 950104.3488348036
YMax: 6014348.2306637755
Spatial Reference: 102100
(3857)
LatestVCSWkid(0)
Pixel Size X: 0.02956871375953834
Pixel Size Y: 0.02956871375953251
Band Count: 3
Pixel Type: U8
RasterFunction Infos: {"rasterFunctionInfos": [{
"name": "None",
"description": "",
"help": ""
}]}
Mensuration Capabilities: Basic
Has Histograms: false
Has Colormap: false
Has Multi Dimensions : false
Rendering Rule:
Min Scale: 0
Max Scale: 0
Copyright Text: © SNP, geometrieplus
Service Data Type: esriImageServiceDataTypeRGB
Min Values: 0, 0, 0
Max Values: 255, 255, 255
Mean Values: 134.3479429273, 134.16575825515, 113.82905789897
Standard Deviation Values: 29.399327868323, 28.044032429035, 34.005514689278
Object ID Field:
Fields:
None
Default Mosaic Method: Center
Allowed Mosaic Methods:
SortField:
SortValue: null
Mosaic Operator: First
Default Compression Quality: 75
Default Resampling Method: Bilinear
Max Record Count: null
Max Image Height: 4100
Max Image Width: 15000
Max Download Image Count: null
Max Mosaic Image Count: null
Allow Raster Function: true
Allow Copy: true
Allow Analysis: true
Allow Compute TiePoints: false
Supports Statistics: false
Supports Advanced Queries: false
Use StandardizedQueries: true
Raster Type Infos:
Name: Raster Dataset
Description: Supports all ArcGIS Raster Datasets
Help:
Has Raster Attribute Table: false
Edit Fields Info: null
Ownership Based AccessControl For Rasters: null
Child Resources:
Info
Statistics
Key Properties
Legend
Raster Function Infos
Supported Operations:
Export Image
Identify
Measure
Compute Histograms
Compute Statistics Histograms
Get Samples
Compute Class Statistics
Query Boundary
Compute Pixel Location
Compute Angles
Validate
Project