View In:
ArcGIS JavaScript
ArcGIS Online Map Viewer
ArcGIS Earth
ArcMap
View Footprint In:
ArcGIS Online Map Viewer
Service Description: snp_tests/ue
Name: snp_tests/ue
Description:
Single Fused Map Cache: false
Extent:
XMin: 935822.8223459921
YMin: 6007537.095818919
XMax: 941954.2531165736
YMax: 6010712.35770229
Spatial Reference: 102100
(3857)
LatestVCSWkid(0)
Initial Extent:
XMin: 935822.8223459921
YMin: 6007537.095818919
XMax: 941954.2531165736
YMax: 6010712.35770229
Spatial Reference: 102100
(3857)
LatestVCSWkid(0)
Full Extent:
XMin: 935822.8223459921
YMin: 6007537.095818919
XMax: 941954.2531165736
YMax: 6010712.35770229
Spatial Reference: 102100
(3857)
LatestVCSWkid(0)
Pixel Size X: 0.07379353188245702
Pixel Size Y: 0.0737935318824648
Band Count: 3
Pixel Type: U8
RasterFunction Infos: {"rasterFunctionInfos": [{
"name": "None",
"description": "",
"help": ""
}]}
Mensuration Capabilities: Basic
Has Histograms: false
Has Colormap: false
Has Multi Dimensions : false
Rendering Rule:
Min Scale: 0
Max Scale: 0
Copyright Text: © SNP, geometrieplus
Service Data Type: esriImageServiceDataTypeRGB
Min Values: 0, 0, 0
Max Values: 255, 255, 255
Mean Values: 117.34071183863, 127.35370883518, 86.508813121472
Standard Deviation Values: 35.575087442237, 32.07231364751, 35.862344065571
Object ID Field:
Fields:
None
Default Mosaic Method: Center
Allowed Mosaic Methods:
SortField:
SortValue: null
Mosaic Operator: First
Default Compression Quality: 75
Default Resampling Method: Bilinear
Max Record Count: null
Max Image Height: 4100
Max Image Width: 15000
Max Download Image Count: null
Max Mosaic Image Count: null
Allow Raster Function: true
Allow Copy: true
Allow Analysis: true
Allow Compute TiePoints: false
Supports Statistics: false
Supports Advanced Queries: false
Use StandardizedQueries: true
Raster Type Infos:
Name: Raster Dataset
Description: Supports all ArcGIS Raster Datasets
Help:
Has Raster Attribute Table: false
Edit Fields Info: null
Ownership Based AccessControl For Rasters: null
Child Resources:
Info
Statistics
Key Properties
Legend
Raster Function Infos
Supported Operations:
Export Image
Identify
Measure
Compute Histograms
Compute Statistics Histograms
Get Samples
Compute Class Statistics
Query Boundary
Compute Pixel Location
Compute Angles
Validate
Project