View In:
ArcGIS JavaScript
ArcGIS Online Map Viewer
ArcGIS Earth
ArcMap
View Footprint In:
ArcGIS Online Map Viewer
Service Description: Spoel, section wooden bridge, 16.06.2023
Name: snp_is/spoel20230616_nach
Description: Spoel, section wooden bridge, 16.06.2023
Single Fused Map Cache: false
Extent:
XMin: 2802324.1484000003
YMin: 1174443.77685
XMax: 2805637.6565600005
YMax: 1175659.47285
Spatial Reference: 2056
(2056)
LatestVCSWkid(0)
Initial Extent:
XMin: 2802324.1484000003
YMin: 1174443.77685
XMax: 2805637.6565600005
YMax: 1175659.47285
Spatial Reference: 2056
(2056)
LatestVCSWkid(0)
Full Extent:
XMin: 2802324.1484000003
YMin: 1174443.77685
XMax: 2805637.6565600005
YMax: 1175659.47285
Spatial Reference: 2056
(2056)
LatestVCSWkid(0)
Pixel Size X: 0.014880000000000905
Pixel Size Y: 0.014879999999999954
Band Count: 3
Pixel Type: U8
RasterFunction Infos: {"rasterFunctionInfos": [{
"name": "None",
"description": "",
"help": ""
}]}
Mensuration Capabilities: Basic
Has Histograms: false
Has Colormap: false
Has Multi Dimensions : false
Rendering Rule:
Min Scale: 0
Max Scale: 0
Copyright Text: © SNP
Service Data Type: esriImageServiceDataTypeRGB
Min Values: 0, 0, 0
Max Values: 255, 255, 255
Mean Values: 118.69221344974, 132.34661408805, 93.290503134068
Standard Deviation Values: 15.313134002333, 13.874358104528, 19.2528051557
Object ID Field:
Fields:
None
Default Mosaic Method: Center
Allowed Mosaic Methods:
SortField:
SortValue: null
Mosaic Operator: First
Default Compression Quality: 75
Default Resampling Method: Bilinear
Max Record Count: null
Max Image Height: 4100
Max Image Width: 15000
Max Download Image Count: null
Max Mosaic Image Count: null
Allow Raster Function: true
Allow Copy: true
Allow Analysis: true
Allow Compute TiePoints: false
Supports Statistics: false
Supports Advanced Queries: false
Use StandardizedQueries: true
Raster Type Infos:
Name: Raster Dataset
Description: Supports all ArcGIS Raster Datasets
Help:
Has Raster Attribute Table: false
Edit Fields Info: null
Ownership Based AccessControl For Rasters: null
Child Resources:
Info
Statistics
Key Properties
Legend
Raster Function Infos
Supported Operations:
Export Image
Identify
Measure
Compute Histograms
Compute Statistics Histograms
Get Samples
Compute Class Statistics
Query Boundary
Compute Pixel Location
Compute Angles
Validate
Project