View In:
ArcGIS JavaScript
ArcGIS Online Map Viewer
ArcGIS Earth
ArcMap
View Footprint In:
ArcGIS Online Map Viewer
Service Description: snp_tests/spoel_dsmdiff_25042024_16062023
Name: snp_tests/spoel_dsmdiff_25042024_16062023
Description:
Single Fused Map Cache: false
Extent:
XMin: 2803598.16594
YMin: 1175030.64026
XMax: 2804200.4349700003
YMax: 1175300.3872500001
Spatial Reference: 2056
(2056)
VCSWkid(5729)
LatestVCSWkid(5729)
Initial Extent:
XMin: 2803598.16594
YMin: 1175030.64026
XMax: 2804200.4349700003
YMax: 1175300.3872500001
Spatial Reference: 2056
(2056)
VCSWkid(5729)
LatestVCSWkid(5729)
Full Extent:
XMin: 2803598.16594
YMin: 1175030.64026
XMax: 2804200.4349700003
YMax: 1175300.3872500001
Spatial Reference: 2056
(2056)
VCSWkid(5729)
LatestVCSWkid(5729)
Pixel Size X: 0.07429000000001025
Pixel Size Y: 0.07429000000003597
Band Count: 1
Pixel Type: F32
RasterFunction Infos: {"rasterFunctionInfos": [{
"name": "None",
"description": "",
"help": ""
}]}
Mensuration Capabilities: Basic
Has Histograms: true
Has Colormap: false
Has Multi Dimensions : false
Rendering Rule:
Min Scale: 0
Max Scale: 0
Copyright Text:
Service Data Type: esriImageServiceDataTypeGeneric
Min Values: -26.455200195312
Max Values: 18.168090820312
Mean Values: -1.2077321850653
Standard Deviation Values: 3.6033786294465
Object ID Field:
Fields:
None
Default Mosaic Method: Center
Allowed Mosaic Methods:
SortField:
SortValue: null
Mosaic Operator: First
Default Compression Quality: 75
Default Resampling Method: Bilinear
Max Record Count: null
Max Image Height: 4100
Max Image Width: 15000
Max Download Image Count: null
Max Mosaic Image Count: null
Allow Raster Function: true
Allow Copy: true
Allow Analysis: true
Allow Compute TiePoints: false
Supports Statistics: false
Supports Advanced Queries: false
Use StandardizedQueries: true
Raster Type Infos:
Name: Raster Dataset
Description: Supports all ArcGIS Raster Datasets
Help:
Has Raster Attribute Table: false
Edit Fields Info: null
Ownership Based AccessControl For Rasters: null
Child Resources:
Info
Histograms
Statistics
Key Properties
Legend
Raster Function Infos
Supported Operations:
Export Image
Identify
Measure
Compute Histograms
Compute Statistics Histograms
Get Samples
Compute Class Statistics
Query Boundary
Compute Pixel Location
Compute Angles
Validate
Project